BEGIN:VCALENDAR
VERSION:2.0
PRODID:-//Friendship Force of Central Iowa - ECPv6.15.20//NONSGML v1.0//EN
CALSCALE:GREGORIAN
METHOD:PUBLISH
X-ORIGINAL-URL:https://ffcentraliowa.org
X-WR-CALDESC:Events for Friendship Force of Central Iowa
REFRESH-INTERVAL;VALUE=DURATION:PT1H
X-Robots-Tag:noindex
X-PUBLISHED-TTL:PT1H
BEGIN:VTIMEZONE
TZID:America/Chicago
BEGIN:DAYLIGHT
TZOFFSETFROM:-0600
TZOFFSETTO:-0500
TZNAME:CDT
DTSTART:20250309T080000
END:DAYLIGHT
BEGIN:STANDARD
TZOFFSETFROM:-0500
TZOFFSETTO:-0600
TZNAME:CST
DTSTART:20251102T070000
END:STANDARD
BEGIN:DAYLIGHT
TZOFFSETFROM:-0600
TZOFFSETTO:-0500
TZNAME:CDT
DTSTART:20260308T080000
END:DAYLIGHT
BEGIN:STANDARD
TZOFFSETFROM:-0500
TZOFFSETTO:-0600
TZNAME:CST
DTSTART:20261101T070000
END:STANDARD
BEGIN:DAYLIGHT
TZOFFSETFROM:-0600
TZOFFSETTO:-0500
TZNAME:CDT
DTSTART:20270314T080000
END:DAYLIGHT
BEGIN:STANDARD
TZOFFSETFROM:-0500
TZOFFSETTO:-0600
TZNAME:CST
DTSTART:20271107T070000
END:STANDARD
END:VTIMEZONE
BEGIN:VEVENT
DTSTART;TZID=America/Chicago:20260501T080000
DTEND;TZID=America/Chicago:20260630T170000
DTSTAMP:20260423T145610
CREATED:20250926T195705Z
LAST-MODIFIED:20250926T195705Z
UID:1339-1777622400-1782838800@ffcentraliowa.org
SUMMARY:Incoming Journey Southern New Jersey Club Dates not set May June 2026?
DESCRIPTION:
URL:https://ffcentraliowa.org/event/incoming-journey-southern-new-jersey-club-dates-not-set-may-june-2026/
LOCATION:IA
END:VEVENT
BEGIN:VEVENT
DTSTART;TZID=America/Chicago:20260616T160000
DTEND;TZID=America/Chicago:20260616T170000
DTSTAMP:20260423T145610
CREATED:20250926T200644Z
LAST-MODIFIED:20250926T200644Z
UID:1351-1781625600-1781629200@ffcentraliowa.org
SUMMARY:FFCI Quarterly Board Meeting All Members Welcome
DESCRIPTION:
URL:https://ffcentraliowa.org/event/ffci-quarterly-board-meeting-all-members-welcome-3/
LOCATION:IA
END:VEVENT
BEGIN:VEVENT
DTSTART;VALUE=DATE:20260627
DTEND;VALUE=DATE:20260629
DTSTAMP:20260423T145610
CREATED:20250807T184748Z
LAST-MODIFIED:20250807T184748Z
UID:1310-1782518400-1782691199@ffcentraliowa.org
SUMMARY:All Iowa Gathering (hosted by Quad Cities FF) estimated date
DESCRIPTION:
URL:https://ffcentraliowa.org/event/all-iowa-gathering-hosted-by-quad-cities-ff-estimated-date/
LOCATION:IA
END:VEVENT
END:VCALENDAR