BEGIN:VCALENDAR
VERSION:2.0
PRODID:-//Friendship Force of Central Iowa - ECPv6.15.20//NONSGML v1.0//EN
CALSCALE:GREGORIAN
METHOD:PUBLISH
X-ORIGINAL-URL:https://ffcentraliowa.org
X-WR-CALDESC:Events for Friendship Force of Central Iowa
REFRESH-INTERVAL;VALUE=DURATION:PT1H
X-Robots-Tag:noindex
X-PUBLISHED-TTL:PT1H
BEGIN:VTIMEZONE
TZID:America/Chicago
BEGIN:DAYLIGHT
TZOFFSETFROM:-0600
TZOFFSETTO:-0500
TZNAME:CDT
DTSTART:20210314T080000
END:DAYLIGHT
BEGIN:STANDARD
TZOFFSETFROM:-0500
TZOFFSETTO:-0600
TZNAME:CST
DTSTART:20211107T070000
END:STANDARD
BEGIN:DAYLIGHT
TZOFFSETFROM:-0600
TZOFFSETTO:-0500
TZNAME:CDT
DTSTART:20220313T080000
END:DAYLIGHT
BEGIN:STANDARD
TZOFFSETFROM:-0500
TZOFFSETTO:-0600
TZNAME:CST
DTSTART:20221106T070000
END:STANDARD
BEGIN:DAYLIGHT
TZOFFSETFROM:-0600
TZOFFSETTO:-0500
TZNAME:CDT
DTSTART:20230312T080000
END:DAYLIGHT
BEGIN:STANDARD
TZOFFSETFROM:-0500
TZOFFSETTO:-0600
TZNAME:CST
DTSTART:20231105T070000
END:STANDARD
BEGIN:DAYLIGHT
TZOFFSETFROM:-0600
TZOFFSETTO:-0500
TZNAME:CDT
DTSTART:20240310T080000
END:DAYLIGHT
BEGIN:STANDARD
TZOFFSETFROM:-0500
TZOFFSETTO:-0600
TZNAME:CST
DTSTART:20241103T070000
END:STANDARD
END:VTIMEZONE
BEGIN:VEVENT
DTSTART;TZID=America/Chicago:20230215T120000
DTEND;TZID=America/Chicago:20230215T140000
DTSTAMP:20260423T163629
CREATED:20230204T200336Z
LAST-MODIFIED:20230204T203149Z
UID:1025-1676462400-1676469600@ffcentraliowa.org
SUMMARY:Let's Eat Out (LEO)
DESCRIPTION:
URL:https://ffcentraliowa.org/event/lets-eat-out-leo/
LOCATION:Lucky Pig\, Ogden\, IA\, 113 W Walnut\, Ogden\, IA\, 50212\, United States
CATEGORIES:Activity
END:VEVENT
BEGIN:VEVENT
DTSTART;TZID=America/Chicago:20230204T093000
DTEND;TZID=America/Chicago:20230204T110000
DTSTAMP:20260423T163629
CREATED:20230204T201115Z
LAST-MODIFIED:20230205T020539Z
UID:1034-1675503000-1675508400@ffcentraliowa.org
SUMMARY:FFCI July Board meeting via zoom
DESCRIPTION:
URL:https://ffcentraliowa.org/event/ffci-july-board-meeting-via-zoom/
CATEGORIES:Board meetings
END:VEVENT
BEGIN:VEVENT
DTSTART;TZID=America/Chicago:20230114T093000
DTEND;TZID=America/Chicago:20230114T110000
DTSTAMP:20260423T163629
CREATED:20230204T195740Z
LAST-MODIFIED:20230204T203351Z
UID:1020-1673688600-1673694000@ffcentraliowa.org
SUMMARY:FFCI January Board meeting
DESCRIPTION:
URL:https://ffcentraliowa.org/event/ffci-january-board-meeting/
CATEGORIES:Board meetings
END:VEVENT
BEGIN:VEVENT
DTSTART;TZID=America/Chicago:20221008T100000
DTEND;TZID=America/Chicago:20221008T111500
DTSTAMP:20260423T163629
CREATED:20221002T033222Z
LAST-MODIFIED:20221002T033222Z
UID:969-1665223200-1665227700@ffcentraliowa.org
SUMMARY:Annual Meeting Oct 8 10 to 11:15 via Zoom
DESCRIPTION:
URL:https://ffcentraliowa.org/event/annual-meeting-oct-8-10-to-1115-via-zoom/
END:VEVENT
BEGIN:VEVENT
DTSTART;TZID=America/Chicago:20221003T123000
DTEND;TZID=America/Chicago:20221003T170000
DTSTAMP:20260423T163629
CREATED:20221002T033342Z
LAST-MODIFIED:20221002T033342Z
UID:971-1664800200-1664816400@ffcentraliowa.org
SUMMARY:Iowa River Cruise
DESCRIPTION:
URL:https://ffcentraliowa.org/event/iowa-river-cruise/
ORGANIZER;CN="Corry":MAILTO:corbertelsen@gmail.com
END:VEVENT
BEGIN:VEVENT
DTSTART;TZID=America/Chicago:20220818T140000
DTEND;TZID=America/Chicago:20220818T160000
DTSTAMP:20260423T163629
CREATED:20220815T021159Z
LAST-MODIFIED:20220815T021159Z
UID:956-1660831200-1660838400@ffcentraliowa.org
SUMMARY:Ukraine Georgia Journey Presentation
DESCRIPTION:
URL:https://ffcentraliowa.org/event/ukraine-georgia-journey-presentation/
LOCATION:Ames Public Library\, 515 Douglas\, Ames\, IA\, 50010
END:VEVENT
END:VCALENDAR