BEGIN:VCALENDAR
VERSION:2.0
PRODID:-//Friendship Force of Central Iowa - ECPv6.15.20//NONSGML v1.0//EN
CALSCALE:GREGORIAN
METHOD:PUBLISH
X-ORIGINAL-URL:https://ffcentraliowa.org
X-WR-CALDESC:Events for Friendship Force of Central Iowa
REFRESH-INTERVAL;VALUE=DURATION:PT1H
X-Robots-Tag:noindex
X-PUBLISHED-TTL:PT1H
BEGIN:VTIMEZONE
TZID:America/Chicago
BEGIN:DAYLIGHT
TZOFFSETFROM:-0600
TZOFFSETTO:-0500
TZNAME:CDT
DTSTART:20250309T080000
END:DAYLIGHT
BEGIN:STANDARD
TZOFFSETFROM:-0500
TZOFFSETTO:-0600
TZNAME:CST
DTSTART:20251102T070000
END:STANDARD
BEGIN:DAYLIGHT
TZOFFSETFROM:-0600
TZOFFSETTO:-0500
TZNAME:CDT
DTSTART:20260308T080000
END:DAYLIGHT
BEGIN:STANDARD
TZOFFSETFROM:-0500
TZOFFSETTO:-0600
TZNAME:CST
DTSTART:20261101T070000
END:STANDARD
BEGIN:DAYLIGHT
TZOFFSETFROM:-0600
TZOFFSETTO:-0500
TZNAME:CDT
DTSTART:20270314T080000
END:DAYLIGHT
BEGIN:STANDARD
TZOFFSETFROM:-0500
TZOFFSETTO:-0600
TZNAME:CST
DTSTART:20271107T070000
END:STANDARD
END:VTIMEZONE
BEGIN:VEVENT
DTSTART;VALUE=DATE:20260901
DTEND;VALUE=DATE:20261001
DTSTAMP:20260423T181809
CREATED:20250627T162136Z
LAST-MODIFIED:20250807T185356Z
UID:1260-1788220800-1790812799@ffcentraliowa.org
SUMMARY:FFCI Outgoing Hamilton & Burlington Canada exact date not set
DESCRIPTION:
URL:https://ffcentraliowa.org/event/ffci-outgoing-hamilton-and-burlington-canada/
LOCATION:IA
ORGANIZER;CN="Alta":MAILTO:altajerbyg@gmail.com
END:VEVENT
BEGIN:VEVENT
DTSTART;TZID=America/Chicago:20260916T160000
DTEND;TZID=America/Chicago:20260916T170000
DTSTAMP:20260423T181809
CREATED:20250926T200736Z
LAST-MODIFIED:20250926T200736Z
UID:1353-1789574400-1789578000@ffcentraliowa.org
SUMMARY:FFCI Quarterly Board Meeting All Members Welcome
DESCRIPTION:
URL:https://ffcentraliowa.org/event/ffci-quarterly-board-meeting-all-members-welcome-4/
LOCATION:IA
END:VEVENT
BEGIN:VEVENT
DTSTART;TZID=America/Chicago:20261107T160000
DTEND;TZID=America/Chicago:20261107T170000
DTSTAMP:20260423T181809
CREATED:20250926T200818Z
LAST-MODIFIED:20250926T201641Z
UID:1355-1794067200-1794070800@ffcentraliowa.org
SUMMARY:FFCI Annual Meeting
DESCRIPTION:
URL:https://ffcentraliowa.org/event/ffci-annual-meeting-2/
LOCATION:IA
END:VEVENT
END:VCALENDAR