BEGIN:VCALENDAR
VERSION:2.0
PRODID:-//Friendship Force of Central Iowa - ECPv6.15.20//NONSGML v1.0//EN
CALSCALE:GREGORIAN
METHOD:PUBLISH
X-WR-CALNAME:Friendship Force of Central Iowa
X-ORIGINAL-URL:https://ffcentraliowa.org
X-WR-CALDESC:Events for Friendship Force of Central Iowa
REFRESH-INTERVAL;VALUE=DURATION:PT1H
X-Robots-Tag:noindex
X-PUBLISHED-TTL:PT1H
BEGIN:VTIMEZONE
TZID:America/Chicago
BEGIN:DAYLIGHT
TZOFFSETFROM:-0600
TZOFFSETTO:-0500
TZNAME:CDT
DTSTART:20220313T080000
END:DAYLIGHT
BEGIN:STANDARD
TZOFFSETFROM:-0500
TZOFFSETTO:-0600
TZNAME:CST
DTSTART:20221106T070000
END:STANDARD
BEGIN:DAYLIGHT
TZOFFSETFROM:-0600
TZOFFSETTO:-0500
TZNAME:CDT
DTSTART:20230312T080000
END:DAYLIGHT
BEGIN:STANDARD
TZOFFSETFROM:-0500
TZOFFSETTO:-0600
TZNAME:CST
DTSTART:20231105T070000
END:STANDARD
BEGIN:DAYLIGHT
TZOFFSETFROM:-0600
TZOFFSETTO:-0500
TZNAME:CDT
DTSTART:20240310T080000
END:DAYLIGHT
BEGIN:STANDARD
TZOFFSETFROM:-0500
TZOFFSETTO:-0600
TZNAME:CST
DTSTART:20241103T070000
END:STANDARD
BEGIN:DAYLIGHT
TZOFFSETFROM:-0600
TZOFFSETTO:-0500
TZNAME:CDT
DTSTART:20250309T080000
END:DAYLIGHT
BEGIN:STANDARD
TZOFFSETFROM:-0500
TZOFFSETTO:-0600
TZNAME:CST
DTSTART:20251102T070000
END:STANDARD
BEGIN:DAYLIGHT
TZOFFSETFROM:-0600
TZOFFSETTO:-0500
TZNAME:CDT
DTSTART:20260308T080000
END:DAYLIGHT
BEGIN:STANDARD
TZOFFSETFROM:-0500
TZOFFSETTO:-0600
TZNAME:CST
DTSTART:20261101T070000
END:STANDARD
BEGIN:DAYLIGHT
TZOFFSETFROM:-0600
TZOFFSETTO:-0500
TZNAME:CDT
DTSTART:20270314T080000
END:DAYLIGHT
BEGIN:STANDARD
TZOFFSETFROM:-0500
TZOFFSETTO:-0600
TZNAME:CST
DTSTART:20271107T070000
END:STANDARD
END:VTIMEZONE
BEGIN:VEVENT
DTSTART;TZID=America/Chicago:20260120T160000
DTEND;TZID=America/Chicago:20260120T170000
DTSTAMP:20260423T164028
CREATED:20250926T200415Z
LAST-MODIFIED:20250926T200415Z
UID:1347-1768924800-1768928400@ffcentraliowa.org
SUMMARY:FFCI Quarterly Board Meeting All members welcome
DESCRIPTION:
URL:https://ffcentraliowa.org/event/ffci-quarterly-board-meeting-all-members-welcome/
LOCATION:IA
END:VEVENT
BEGIN:VEVENT
DTSTART;TZID=America/Chicago:20251206T000000
DTEND;TZID=America/Chicago:20251206T000000
DTSTAMP:20260423T164028
CREATED:20250926T201130Z
LAST-MODIFIED:20250926T202011Z
UID:1357-1764979200-1764979200@ffcentraliowa.org
SUMMARY:FFCI Holiday Party luncheon
DESCRIPTION:Watch email and newsletters for exact time. \nPotluck luncheon. Bring a dish to share and a white elephant gift to participate in the fun!
URL:https://ffcentraliowa.org/event/ffci-holiday-party/
LOCATION:Village Cooperative of Ames\, 2525 Bobcat\, Ames\, IA\, United States
END:VEVENT
BEGIN:VEVENT
DTSTART;TZID=America/Chicago:20251122T100000
DTEND;TZID=America/Chicago:20251122T113000
DTSTAMP:20260423T164028
CREATED:20250627T162523Z
LAST-MODIFIED:20250926T201719Z
UID:1266-1763805600-1763811000@ffcentraliowa.org
SUMMARY:FFCI 2025 Annual Meeting Pizza Party--Pay $40 2026 dues
DESCRIPTION:
URL:https://ffcentraliowa.org/event/ffci-2025-annual-meeting/
LOCATION:Northcrest Great Room\, 2300 Northcrest Parkway\, Ames\, IA\, United States
ORGANIZER;CN="Alta":MAILTO:altajerbyg@gmail.com
END:VEVENT
BEGIN:VEVENT
DTSTART;TZID=America/Chicago:20251017T170000
DTEND;TZID=America/Chicago:20251017T183000
DTSTAMP:20260423T164028
CREATED:20250926T200229Z
LAST-MODIFIED:20251002T015753Z
UID:1343-1760720400-1760725800@ffcentraliowa.org
SUMMARY:History Happy Hour: Witchcraft & Skepticism
DESCRIPTION:Limited number of tickets\, so do it today! \nOrder your ticket(s) directly from the History Museum \nDive into the history of witchcraft in early America with Dr. Michael Bailey. ISU History Dept.\, Distinguished Professor. At 5:00 Dr. Baily will discuss witchcraft\, magic and superstition in early in New England during colonial times\, where there was also restraint and skepticism. \nFollowing Dr. Bailey’s talk you can enjoy an exclusive after-hours opportunity to view exhibits. \nLater\, light snacks will be available along with two free drinks to sip: your choice of wine\, fruit beverage\, or one of two Halloween themed cocktails. We’ll take this opportunity to visit.
URL:https://ffcentraliowa.org/event/history-happy-hour-witchcraft-skepticism/
LOCATION:Ames History Museum\, 416 Douglas Av\, Ames\, IA\, United States
ORGANIZER;CN="Lynn A":MAILTO:avant6428@gmail.com
END:VEVENT
BEGIN:VEVENT
DTSTART;TZID=America/Chicago:20250923T160000
DTEND;TZID=America/Chicago:20250923T180000
DTSTAMP:20260423T164028
CREATED:20250627T162428Z
LAST-MODIFIED:20250926T195915Z
UID:1264-1758643200-1758650400@ffcentraliowa.org
SUMMARY:FFCI Quarterly Board meeting All members welcome
DESCRIPTION:
URL:https://ffcentraliowa.org/event/ffci-quarterly-meeting/
LOCATION:IA
ORGANIZER;CN="Alta":MAILTO:altajerbyg@gmail.com
END:VEVENT
BEGIN:VEVENT
DTSTART;TZID=America/Chicago:20250918T113000
DTEND;TZID=America/Chicago:20250918T130000
DTSTAMP:20260423T164028
CREATED:20250910T160812Z
LAST-MODIFIED:20250910T160951Z
UID:1322-1758195000-1758200400@ffcentraliowa.org
SUMMARY:FFCI September Activity: LEO at Aunt Maude's
DESCRIPTION:Join us! RSVP with Charene or Margaret by Friday September 12!
URL:https://ffcentraliowa.org/event/ffci-september-activity-leo-at-aunt-maudes/
LOCATION:Aunt Maude’s\, 547 Main St\, Ames\, IA\, United States
ORGANIZER;CN="Charene":MAILTO:margaretepplin@gmail.com
END:VEVENT
BEGIN:VEVENT
DTSTART;VALUE=DATE:20250909
DTEND;VALUE=DATE:20250917
DTSTAMP:20260423T164028
CREATED:20250627T161951Z
LAST-MODIFIED:20250807T184951Z
UID:1257-1757376000-1758067199@ffcentraliowa.org
SUMMARY:FFCI Richmond\, VA Outgoing Journey
DESCRIPTION:
URL:https://ffcentraliowa.org/event/ffci-richmond-va-outgoing-journey/
LOCATION:IA
ORGANIZER;CN="Alta":MAILTO:altajerbyg@gmail.com
END:VEVENT
BEGIN:VEVENT
DTSTART;TZID=America/Chicago:20250816T140000
DTEND;TZID=America/Chicago:20250816T200000
DTSTAMP:20260423T164028
CREATED:20250627T163645Z
LAST-MODIFIED:20250807T184232Z
UID:1273-1755352800-1755374400@ffcentraliowa.org
SUMMARY:Senior Variety Show followed by Pizza at Torrent Brewery
DESCRIPTION:
URL:https://ffcentraliowa.org/event/ffci-leo-torrent-brewery/
LOCATION:Ames City Auditorium & Torrent Brewery
CATEGORIES:Activity
ORGANIZER;CN="Charene":MAILTO:margaretepplin@gmail.com
END:VEVENT
BEGIN:VEVENT
DTSTART;TZID=America/Chicago:20250717T170000
DTEND;TZID=America/Chicago:20250717T200000
DTSTAMP:20260423T164028
CREATED:20250627T162917Z
LAST-MODIFIED:20250627T163424Z
UID:1268-1752771600-1752782400@ffcentraliowa.org
SUMMARY:FFCI Potluck Bandshell Park
DESCRIPTION:Third Thursday Concert: The Bone People
URL:https://ffcentraliowa.org/event/ffci-potluck-bandshell-park/
LOCATION:Bandshell Park\, 125 E 5th St\, Ames\, IA\, 50010
ORGANIZER;CN="Lynn A":MAILTO:avant6428@gmail.com
END:VEVENT
BEGIN:VEVENT
DTSTART;TZID=America/Chicago:20250628T113000
DTEND;TZID=America/Chicago:20250628T140000
DTSTAMP:20260423T164028
CREATED:20250627T165544Z
LAST-MODIFIED:20250627T165544Z
UID:1284-1751110200-1751119200@ffcentraliowa.org
SUMMARY:All Iowa FF Gathering
DESCRIPTION:
URL:https://ffcentraliowa.org/event/all-iowa-ff-gathering/
LOCATION:Machine Shed Restaurant\, 11151 Hickman Rd\, Urbandale\, IA\, 50233
END:VEVENT
BEGIN:VEVENT
DTSTART;TZID=America/Chicago:20250508T090000
DTEND;TZID=America/Chicago:20250508T150000
DTSTAMP:20260423T164028
CREATED:20250627T162325Z
LAST-MODIFIED:20250627T162325Z
UID:1262-1746694800-1746716400@ffcentraliowa.org
SUMMARY:Senior Expo Gateway Hotel Ames\, IA
DESCRIPTION:
URL:https://ffcentraliowa.org/event/senior-expo-gateway-hotel-ames-ia/
LOCATION:IA
END:VEVENT
BEGIN:VEVENT
DTSTART;TZID=America/Chicago:20250328T130000
DTEND;TZID=America/Chicago:20250328T150000
DTSTAMP:20260423T164028
CREATED:20250627T165149Z
LAST-MODIFIED:20250627T165149Z
UID:1282-1743166800-1743174000@ffcentraliowa.org
SUMMARY:World Friendship Day
DESCRIPTION:
URL:https://ffcentraliowa.org/event/world-friendship-day/
LOCATION:Ames Public Library\, 515 Douglas\, Ames\, IA\, 50010
ORGANIZER;CN="Alta":MAILTO:altajerbyg@gmail.com
END:VEVENT
BEGIN:VEVENT
DTSTART;VALUE=DATE:20241007
DTEND;VALUE=DATE:20241011
DTSTAMP:20260423T164028
CREATED:20240706T180246Z
LAST-MODIFIED:20240706T180311Z
UID:1201-1728259200-1728604799@ffcentraliowa.org
SUMMARY:FFI North American Conference in Milwaukee
DESCRIPTION:See page 2 of the July August Newsletter for complete details and plan to attend! Lots of great workshops!
URL:https://ffcentraliowa.org/event/ffi-north-american-conference-in-milwaukee/
LOCATION:IA
END:VEVENT
BEGIN:VEVENT
DTSTART;TZID=America/Chicago:20240917T160000
DTEND;TZID=America/Chicago:20240917T170000
DTSTAMP:20260423T164028
CREATED:20240706T180007Z
LAST-MODIFIED:20240706T180020Z
UID:1199-1726588800-1726592400@ffcentraliowa.org
SUMMARY:FFCI Board Meeting
DESCRIPTION:Everyone welcome! Contact Alta if you have any questions.
URL:https://ffcentraliowa.org/event/ffci-board-meeting/
LOCATION:IA
END:VEVENT
BEGIN:VEVENT
DTSTART;TZID=America/Chicago:20240827T140000
DTEND;TZID=America/Chicago:20240827T153000
DTSTAMP:20260423T164028
CREATED:20240706T175824Z
LAST-MODIFIED:20240706T175824Z
UID:1197-1724767200-1724772600@ffcentraliowa.org
SUMMARY:Chair Yoga at Northcrest
DESCRIPTION:Enjoy the flexibility\, balance \, and serenity that gentle easy-to-do chair yoga offers. Northcrest Fireside Room. RSVP by August 20 to Chery B. or Carole M.
URL:https://ffcentraliowa.org/event/chair-yoga-at-northcrest/
LOCATION:IA
END:VEVENT
BEGIN:VEVENT
DTSTART;TZID=America/Chicago:20240723T083000
DTEND;TZID=America/Chicago:20240723T190000
DTSTAMP:20260423T164028
CREATED:20240706T175306Z
LAST-MODIFIED:20240706T175306Z
UID:1193-1721723400-1721761200@ffcentraliowa.org
SUMMARY:"Oh Boy" Full Day Clear Lake Trip
DESCRIPTION:RSVP to Dot by July 10. \n$10 Surf Ballroom tour\, $16 Lady of the Lake paddleboat guided tour\, $ supper at Half Moon Inn Supper Club. \nMore details in July August Newsletter posted on this website.
URL:https://ffcentraliowa.org/event/oh-boy-full-day-clear-lake-trip/
LOCATION:IA
END:VEVENT
BEGIN:VEVENT
DTSTART;TZID=America/Chicago:20240721T140000
DTEND;TZID=America/Chicago:20240721T170000
DTSTAMP:20260423T164028
CREATED:20240706T174729Z
LAST-MODIFIED:20240706T174900Z
UID:1190-1721570400-1721581200@ffcentraliowa.org
SUMMARY:Afternoon at Cellar Winery with Ronley King Blues Band
DESCRIPTION:See July 5 Email from Alta
URL:https://ffcentraliowa.org/event/afternoon-at-cellar-winery-with-ronley-king-band/
LOCATION:IA
END:VEVENT
BEGIN:VEVENT
DTSTART;TZID=America/Chicago:20240629T080000
DTEND;TZID=America/Chicago:20240729T170000
DTSTAMP:20260423T164028
CREATED:20240706T180853Z
LAST-MODIFIED:20240706T180915Z
UID:1208-1719648000-1722272400@ffcentraliowa.org
SUMMARY:All Iowa Picnic Homestead IA
DESCRIPTION:Hosted by FF of Cedar Rapids-Iowa City
URL:https://ffcentraliowa.org/event/all-iowa-picnic-homestead-ia/
LOCATION:IA
END:VEVENT
BEGIN:VEVENT
DTSTART;TZID=America/Chicago:20240627T200000
DTEND;TZID=America/Chicago:20240627T210000
DTSTAMP:20260423T164028
CREATED:20240706T175531Z
LAST-MODIFIED:20240706T175531Z
UID:1195-1719518400-1719522000@ffcentraliowa.org
SUMMARY:Municipal and Concert at Bandshell
DESCRIPTION:potluck
URL:https://ffcentraliowa.org/event/municipal-and-concert-at-bandshell/
LOCATION:IA
END:VEVENT
BEGIN:VEVENT
DTSTART;TZID=America/Chicago:20240618T160000
DTEND;TZID=America/Chicago:20240618T170000
DTSTAMP:20260423T164028
CREATED:20240706T181448Z
LAST-MODIFIED:20240706T181448Z
UID:1212-1718726400-1718730000@ffcentraliowa.org
SUMMARY:FFCI Board meeting
DESCRIPTION:
URL:https://ffcentraliowa.org/event/ffci-board-meeting-2/
LOCATION:IA
END:VEVENT
BEGIN:VEVENT
DTSTART;VALUE=DATE:20240513
DTEND;VALUE=DATE:20240514
DTSTAMP:20260423T164028
CREATED:20240324T191853Z
LAST-MODIFIED:20240324T191853Z
UID:1178-1715558400-1715644799@ffcentraliowa.org
SUMMARY:International Potluck
DESCRIPTION:FFCI International Potluck Dinner will be held May 13th. Event limited to 20 FFCI members\, so RSVP to Marybeth soon. Bring a dish that reflects your cultural heritage\, or any international cuisine you would enjoy sharing.
URL:https://ffcentraliowa.org/event/international-potluck-2/
LOCATION:IA
END:VEVENT
BEGIN:VEVENT
DTSTART;TZID=America/Chicago:20240509T080000
DTEND;TZID=America/Chicago:20240509T140000
DTSTAMP:20260423T164028
CREATED:20240706T180449Z
LAST-MODIFIED:20240706T180449Z
UID:1204-1715241600-1715263200@ffcentraliowa.org
SUMMARY:FFCI at Senior Expo at Gateway
DESCRIPTION:Wear FFCI shirts and distribute FFCI informational materials.
URL:https://ffcentraliowa.org/event/ffci-at-senior-expo-at-gateway/
LOCATION:IA
END:VEVENT
BEGIN:VEVENT
DTSTART;TZID=America/Chicago:20240420T100000
DTEND;TZID=America/Chicago:20240420T130000
DTSTAMP:20260423T164028
CREATED:20240706T180633Z
LAST-MODIFIED:20240706T181321Z
UID:1206-1713607200-1713618000@ffcentraliowa.org
SUMMARY:Stash the Trash in Ames
DESCRIPTION:Meet at west side of Texas Roadhouse.
URL:https://ffcentraliowa.org/event/stash-the-trash-in-ames/
LOCATION:IA
END:VEVENT
BEGIN:VEVENT
DTSTART;TZID=America/Chicago:20231111T093000
DTEND;TZID=America/Chicago:20231111T113000
DTSTAMP:20260423T164028
CREATED:20230204T202259Z
LAST-MODIFIED:20230205T020143Z
UID:1048-1699695000-1699702200@ffcentraliowa.org
SUMMARY:FFCI November Board meeting via Zoom
DESCRIPTION:
URL:https://ffcentraliowa.org/event/ffci-november-board-meeting-via-zoom/
LOCATION:IA
CATEGORIES:Board meetings
END:VEVENT
BEGIN:VEVENT
DTSTART;TZID=America/Chicago:20231014T100000
DTEND;TZID=America/Chicago:20231014T113000
DTSTAMP:20260423T164028
CREATED:20230204T202142Z
LAST-MODIFIED:20230205T020222Z
UID:1046-1697277600-1697283000@ffcentraliowa.org
SUMMARY:FFCI Annual Meeting
DESCRIPTION:
URL:https://ffcentraliowa.org/event/ffci-annual-meeting/
LOCATION:IA
CATEGORIES:Membership Meeting
END:VEVENT
BEGIN:VEVENT
DTSTART;VALUE=DATE:20231002
DTEND;VALUE=DATE:20231006
DTSTAMP:20260423T164028
CREATED:20230412T170127Z
LAST-MODIFIED:20230516T185914Z
UID:1076-1696204800-1696550399@ffcentraliowa.org
SUMMARY:Friendship Force World Conference Croatia
DESCRIPTION:There are pre and post activities.  Visit the Conference Website.
URL:https://ffcentraliowa.org/event/friendship-force-internation-annual-meetings-croatia/
LOCATION:IA
END:VEVENT
BEGIN:VEVENT
DTSTART;TZID=America/Chicago:20230912T080000
DTEND;TZID=America/Chicago:20230919T170000
DTSTAMP:20260423T164028
CREATED:20230204T201336Z
LAST-MODIFIED:20230205T020253Z
UID:1038-1694505600-1695142800@ffcentraliowa.org
SUMMARY:FFCI Outbound Missoula MT
DESCRIPTION:
URL:https://ffcentraliowa.org/event/ffci-outbound-missoula-mt/
LOCATION:IA
CATEGORIES:Journeys
END:VEVENT
BEGIN:VEVENT
DTSTART;TZID=America/Chicago:20230909T093000
DTEND;TZID=America/Chicago:20230909T110000
DTSTAMP:20260423T164028
CREATED:20230204T201214Z
LAST-MODIFIED:20230205T020325Z
UID:1036-1694251800-1694257200@ffcentraliowa.org
SUMMARY:FFCI Sept Board meeting via Zoom
DESCRIPTION:
URL:https://ffcentraliowa.org/event/ffci-sept-board-meeting/
LOCATION:IA
CATEGORIES:Board meetings
END:VEVENT
BEGIN:VEVENT
DTSTART;TZID=America/Chicago:20230814T080000
DTEND;TZID=America/Chicago:20230819T170000
DTSTAMP:20260423T164028
CREATED:20230204T202029Z
LAST-MODIFIED:20230205T020356Z
UID:1044-1692000000-1692464400@ffcentraliowa.org
SUMMARY:FFCI Inbound Long Island NY
DESCRIPTION:
URL:https://ffcentraliowa.org/event/ffci-inbound-long-island-ny/
LOCATION:IA
CATEGORIES:Journeys
END:VEVENT
BEGIN:VEVENT
DTSTART;TZID=America/Chicago:20230708T093000
DTEND;TZID=America/Chicago:20230708T110000
DTSTAMP:20260423T164028
CREATED:20230205T020924Z
LAST-MODIFIED:20230205T020924Z
UID:1060-1688808600-1688814000@ffcentraliowa.org
SUMMARY:FFCI July Board meeting via Zoom
DESCRIPTION:
URL:https://ffcentraliowa.org/event/ffci-july-board-meeting-via-zoom-2/
LOCATION:IA
CATEGORIES:Board meetings
END:VEVENT
END:VCALENDAR