BEGIN:VCALENDAR
VERSION:2.0
PRODID:-//Friendship Force of Central Iowa - ECPv6.15.20//NONSGML v1.0//EN
CALSCALE:GREGORIAN
METHOD:PUBLISH
X-ORIGINAL-URL:https://ffcentraliowa.org
X-WR-CALDESC:Events for Friendship Force of Central Iowa
REFRESH-INTERVAL;VALUE=DURATION:PT1H
X-Robots-Tag:noindex
X-PUBLISHED-TTL:PT1H
BEGIN:VTIMEZONE
TZID:America/Chicago
BEGIN:DAYLIGHT
TZOFFSETFROM:-0600
TZOFFSETTO:-0500
TZNAME:CDT
DTSTART:20220313T080000
END:DAYLIGHT
BEGIN:STANDARD
TZOFFSETFROM:-0500
TZOFFSETTO:-0600
TZNAME:CST
DTSTART:20221106T070000
END:STANDARD
BEGIN:DAYLIGHT
TZOFFSETFROM:-0600
TZOFFSETTO:-0500
TZNAME:CDT
DTSTART:20230312T080000
END:DAYLIGHT
BEGIN:STANDARD
TZOFFSETFROM:-0500
TZOFFSETTO:-0600
TZNAME:CST
DTSTART:20231105T070000
END:STANDARD
BEGIN:DAYLIGHT
TZOFFSETFROM:-0600
TZOFFSETTO:-0500
TZNAME:CDT
DTSTART:20240310T080000
END:DAYLIGHT
BEGIN:STANDARD
TZOFFSETFROM:-0500
TZOFFSETTO:-0600
TZNAME:CST
DTSTART:20241103T070000
END:STANDARD
END:VTIMEZONE
BEGIN:VEVENT
DTSTART;TZID=America/Chicago:20231111T093000
DTEND;TZID=America/Chicago:20231111T113000
DTSTAMP:20260423T195848
CREATED:20230204T202259Z
LAST-MODIFIED:20230205T020143Z
UID:1048-1699695000-1699702200@ffcentraliowa.org
SUMMARY:FFCI November Board meeting via Zoom
DESCRIPTION:
URL:https://ffcentraliowa.org/event/ffci-november-board-meeting-via-zoom/
CATEGORIES:Board meetings
END:VEVENT
BEGIN:VEVENT
DTSTART;TZID=America/Chicago:20230909T093000
DTEND;TZID=America/Chicago:20230909T110000
DTSTAMP:20260423T195848
CREATED:20230204T201214Z
LAST-MODIFIED:20230205T020325Z
UID:1036-1694251800-1694257200@ffcentraliowa.org
SUMMARY:FFCI Sept Board meeting via Zoom
DESCRIPTION:
URL:https://ffcentraliowa.org/event/ffci-sept-board-meeting/
CATEGORIES:Board meetings
END:VEVENT
BEGIN:VEVENT
DTSTART;TZID=America/Chicago:20230708T093000
DTEND;TZID=America/Chicago:20230708T110000
DTSTAMP:20260423T195848
CREATED:20230205T020924Z
LAST-MODIFIED:20230205T020924Z
UID:1060-1688808600-1688814000@ffcentraliowa.org
SUMMARY:FFCI July Board meeting via Zoom
DESCRIPTION:
URL:https://ffcentraliowa.org/event/ffci-july-board-meeting-via-zoom-2/
CATEGORIES:Board meetings
END:VEVENT
BEGIN:VEVENT
DTSTART;TZID=America/Chicago:20230503T133000
DTEND;TZID=America/Chicago:20230503T150000
DTSTAMP:20260423T195848
CREATED:20230204T201001Z
LAST-MODIFIED:20230412T164625Z
UID:1032-1683120600-1683126000@ffcentraliowa.org
SUMMARY:FFCI May Board meeting via Zoom
DESCRIPTION:
URL:https://ffcentraliowa.org/event/ffci-may-board-meeting-via-zoom/
CATEGORIES:Board meetings
ORGANIZER;CN="Sedahlia":MAILTO:sedahlia@iastate.edu
END:VEVENT
BEGIN:VEVENT
DTSTART;TZID=America/Chicago:20230311T093000
DTEND;TZID=America/Chicago:20230311T110000
DTSTAMP:20260423T195848
CREATED:20230204T200840Z
LAST-MODIFIED:20230205T020446Z
UID:1030-1678527000-1678532400@ffcentraliowa.org
SUMMARY:FFCI March Board meeting via Zoom
DESCRIPTION:
URL:https://ffcentraliowa.org/event/ffci-march-board-meeting/
CATEGORIES:Board meetings
END:VEVENT
BEGIN:VEVENT
DTSTART;TZID=America/Chicago:20230204T093000
DTEND;TZID=America/Chicago:20230204T110000
DTSTAMP:20260423T195848
CREATED:20230204T201115Z
LAST-MODIFIED:20230205T020539Z
UID:1034-1675503000-1675508400@ffcentraliowa.org
SUMMARY:FFCI July Board meeting via zoom
DESCRIPTION:
URL:https://ffcentraliowa.org/event/ffci-july-board-meeting-via-zoom/
CATEGORIES:Board meetings
END:VEVENT
BEGIN:VEVENT
DTSTART;TZID=America/Chicago:20230114T093000
DTEND;TZID=America/Chicago:20230114T110000
DTSTAMP:20260423T195848
CREATED:20230204T195740Z
LAST-MODIFIED:20230204T203351Z
UID:1020-1673688600-1673694000@ffcentraliowa.org
SUMMARY:FFCI January Board meeting
DESCRIPTION:
URL:https://ffcentraliowa.org/event/ffci-january-board-meeting/
CATEGORIES:Board meetings
END:VEVENT
END:VCALENDAR